BEGIN:VCALENDAR
VERSION:2.0
PRODID:-//Franjevački samostan Petrićevac - ECPv6.15.16.1//NONSGML v1.0//EN
CALSCALE:GREGORIAN
METHOD:PUBLISH
X-WR-CALNAME:Franjevački samostan Petrićevac
X-ORIGINAL-URL:https://www.samostan-petricevac.org
X-WR-CALDESC:Događaji za Franjevački samostan Petrićevac
REFRESH-INTERVAL;VALUE=DURATION:PT1H
X-Robots-Tag:noindex
X-PUBLISHED-TTL:PT1H
BEGIN:VTIMEZONE
TZID:Europe/Zagreb
BEGIN:DAYLIGHT
TZOFFSETFROM:+0100
TZOFFSETTO:+0200
TZNAME:CEST
DTSTART:20180325T010000
END:DAYLIGHT
BEGIN:STANDARD
TZOFFSETFROM:+0200
TZOFFSETTO:+0100
TZNAME:CET
DTSTART:20181028T010000
END:STANDARD
BEGIN:DAYLIGHT
TZOFFSETFROM:+0100
TZOFFSETTO:+0200
TZNAME:CEST
DTSTART:20190331T010000
END:DAYLIGHT
BEGIN:STANDARD
TZOFFSETFROM:+0200
TZOFFSETTO:+0100
TZNAME:CET
DTSTART:20191027T010000
END:STANDARD
BEGIN:DAYLIGHT
TZOFFSETFROM:+0100
TZOFFSETTO:+0200
TZNAME:CEST
DTSTART:20200329T010000
END:DAYLIGHT
BEGIN:STANDARD
TZOFFSETFROM:+0200
TZOFFSETTO:+0100
TZNAME:CET
DTSTART:20201025T010000
END:STANDARD
BEGIN:DAYLIGHT
TZOFFSETFROM:+0100
TZOFFSETTO:+0200
TZNAME:CEST
DTSTART:20210328T010000
END:DAYLIGHT
BEGIN:STANDARD
TZOFFSETFROM:+0200
TZOFFSETTO:+0100
TZNAME:CET
DTSTART:20211031T010000
END:STANDARD
END:VTIMEZONE
BEGIN:VEVENT
DTSTART;VALUE=DATE:20200614
DTEND;VALUE=DATE:20200713
DTSTAMP:20260425T155425
CREATED:20200617T083422Z
LAST-MODIFIED:20200617T083422Z
UID:4379-1592092800-1594598399@www.samostan-petricevac.org
SUMMARY:BLAGOSLOV POLJA
DESCRIPTION:RASPORED BLAGOSLOVA POLJA I ZAVJETNIH MISA U ŽUPAMA PETRIĆEVAC I MOTIKE 2020. GODINE \n  \nNedjelja\, 14.06. – VUJINOVIĆI \nNedjelja\, 14.06. – MARTINOVIĆI (MOTIKE) – zavjetna misa \nSubota\, 27.06. – LJEVARI (MOTIKE) \nNedjelja\, 28.06. – NOVAKOVIĆI \nSubota\, 04.07. – ČIVČIJE (MOTIKE) \nSubota\, 11.07. – ŠARGOVAC \nNedjelja\, 12.07. – SAMOSTANSKO GROBLJE \n  \nPOČETAK MISA JE U 11:00 SATI. \n 
URL:https://www.samostan-petricevac.org/najave/blagoslov-polja/
LOCATION:Banja Luka
ATTACH;FMTTYPE=image/jpeg:https://www.samostan-petricevac.org/wp-content/uploads/2020/06/P4253793.jpg
END:VEVENT
BEGIN:VEVENT
DTSTART;VALUE=DATE:20200610
DTEND;VALUE=DATE:20200614
DTSTAMP:20260425T155425
CREATED:20200607T182218Z
LAST-MODIFIED:20200611T082805Z
UID:4256-1591747200-1592092799@www.samostan-petricevac.org
SUMMARY:PROSLAVA PATRONA NA PETRIĆEVCU
DESCRIPTION:Dana 13.06. i ove godine naša će župa proslaviti svog nebeskog zaštitnika sv. Antu Padovanskoga. Ovoj proslavi prethodit će i trodnevnica s večernjim svetim misama. Sve detaljne informacije o tome možete dobiti na prigodnom plakatu. \nDobro došli! \n  \n 
URL:https://www.samostan-petricevac.org/najave/proslava-patrona-na-petricevcu/
LOCATION:Petrićevac\, Banja Luka
ATTACH;FMTTYPE=image/jpeg:https://www.samostan-petricevac.org/wp-content/uploads/2020/06/15.jpg
END:VEVENT
BEGIN:VEVENT
DTSTART;VALUE=DATE:20200307
DTEND;VALUE=DATE:20200309
DTSTAMP:20260425T155425
CREATED:20200305T084111Z
LAST-MODIFIED:20200305T084111Z
UID:3856-1583539200-1583711999@www.samostan-petricevac.org
SUMMARY:DUHOVNA OBNOVA ZA MLADE IZ BANJOLUČKOG KRAJA
DESCRIPTION:U subotu i nedjelju 7. i 8. ožujka 2020. bit će Korizmena duhovna obnova za mlade iz banjolučkog kraja. Voditelj duhovne obnove je naš biskup Franjo Komarica i mladi iz župe Botinec (Zagreb)\, koji su okupljeni u grupi „Nanovo rođeni“. Početak obnove je u subotu u 11:00 sati u župi sv. Ante Padovanskog na Petrićevcu\, gdje će naši mladi imati priliku čuti iskustva mladih iz Botinca\, zatim priliku za sv. Ispovijed\, slavit će sv. Misu i imati Klanjanje. \nDrugi dan – nedjelja – predviđen je program u katedrali: sv. Misa u 9:00 sati i nastavit će se s prigodnim programom. Nakon toga planirana je posjeta samostana u Trapistima. Dobro došli! \nIzvor: Samostan Petrićevac
URL:https://www.samostan-petricevac.org/najave/duhovna-obnova-za-mlade-iz-banjoluckog-kraja/
LOCATION:Petrićevac\, Banja Luka
ATTACH;FMTTYPE=image/jpeg:https://www.samostan-petricevac.org/wp-content/uploads/2020/03/22.-Duhovna-obnova-za-mlade-iz-banjolučkog-kraja.jpg
END:VEVENT
BEGIN:VEVENT
DTSTART;VALUE=DATE:20200301
DTEND;VALUE=DATE:20200306
DTSTAMP:20260425T155425
CREATED:20200225T082627Z
LAST-MODIFIED:20200225T082627Z
UID:3783-1583020800-1583452799@www.samostan-petricevac.org
SUMMARY:DUHOVNE VJEŽBE NA PETRIĆEVCU
DESCRIPTION:Pozivaju se braća članovi samostanskog područja Petrićevac na duhovne vježbe koje će započeti u nedjelju navečer 01. ožujka i trajat će do četvrtka 05. ožujka ove godine kad završavaju s ručkom. \nOvogodišnji voditelj duhovnih vježbi je fra Mirko Bobaš\, a tema vježbi je „Propovijedajte Evanđelje\, ako je potrebno i riječima“! – (sv. Franjo Asiški). \nIzvor: Samostan Petrićevac
URL:https://www.samostan-petricevac.org/najave/duhovne-vjezbe-na-petricevcu/
LOCATION:Petrićevac\, Banja Luka
ATTACH;FMTTYPE=image/jpeg:https://www.samostan-petricevac.org/wp-content/uploads/2020/02/20.-Duhovne-vježbe-na-Petrićevcu.jpg
END:VEVENT
BEGIN:VEVENT
DTSTART;VALUE=DATE:20200117
DTEND;VALUE=DATE:20200118
DTSTAMP:20260425T155425
CREATED:20200110T095757Z
LAST-MODIFIED:20200110T095757Z
UID:3474-1579219200-1579305599@www.samostan-petricevac.org
SUMMARY:Sv. Anto Pustinjak\, opat
DESCRIPTION:U petak 17. siječnja 2020. godine u crkvi sv. Ante Padovanskog na Petrićevcu slavimo drugi patron naše župe sv. Antu Pustinjaka. Toga dana biti će sv. Mise: \nRana u 9:00 sati – fra Nikica Vujica \nPučka u 10:30 sati – fra Nikica Vujica \nPoslijepodne u 17:00 sati – fra Ante Ivanović \nSamoj proslavi sv. Ante prethodit će trodnevnica\, koja će biti u 16:00 sati. Trodnevnice će predvoditi fra Nikica Vujica\, ekonom i definitor provincije Bosne Srebrene. Prije svake sv. Mise biti će mogućnost za sv. Ispovijed. \nDobro došli!
URL:https://www.samostan-petricevac.org/najave/sv-anto-pustinjak-opat/
LOCATION:Petrićevac\, Banja Luka
ATTACH;FMTTYPE=image/jpeg:https://www.samostan-petricevac.org/wp-content/uploads/2020/01/5.-Sv.-Antun-Pustinjak.jpg
END:VEVENT
BEGIN:VEVENT
DTSTART;VALUE=DATE:20200104
DTEND;VALUE=DATE:20200105
DTSTAMP:20260425T155425
CREATED:20200102T092421Z
LAST-MODIFIED:20200102T092421Z
UID:3462-1578096000-1578182399@www.samostan-petricevac.org
SUMMARY:POZIV NA JEDINSTVENI BOŽIĆNI KONCERT
DESCRIPTION:
URL:https://www.samostan-petricevac.org/najave/poziv-na-jedinstveni-bozicni-koncert/
LOCATION:Banja Luka
END:VEVENT
BEGIN:VEVENT
DTSTART;VALUE=DATE:20191229
DTEND;VALUE=DATE:20191230
DTSTAMP:20260425T155425
CREATED:20191222T080415Z
LAST-MODIFIED:20191220T082631Z
UID:3356-1577577600-1577663999@www.samostan-petricevac.org
SUMMARY:NAJAVA BOŽIĆNOG KONCERTA
DESCRIPTION:Božić je najradosniji kršćanski blagdan. Blagdan je to ljubavi\, topline\, praštanja i radosti. Tim povodom i HKD Napredak-podružnica Banja Luka u nedjelju 29. prosinca 2019. u Župnoj crkvi Pohoda Blažene Djevice Marije s početkom u 11:30 sati\, organizira Božićni koncert za sve ljude dobre volje. \nNa koncertu će nastupiti\, Edmund Andler Borić orguljaš i Albina Smajlović\, sopran. Dođimo i uživajmo u radosnom ambijentu Božića kroz radosne melodije koje će svakog slušatelja ispuniti mirom i ljubavlju. „Svim na zemlji\, mir veselje!“
URL:https://www.samostan-petricevac.org/najave/najava-bozicnog-koncerta/
ATTACH;FMTTYPE=image/jpeg:https://www.samostan-petricevac.org/wp-content/uploads/2019/12/2.-Najava-Božićnog-koncerta.jpg
END:VEVENT
BEGIN:VEVENT
DTSTART;VALUE=DATE:20191226
DTEND;VALUE=DATE:20200101
DTSTAMP:20260425T155425
CREATED:20191217T134232Z
LAST-MODIFIED:20191220T082112Z
UID:3230-1577318400-1577836799@www.samostan-petricevac.org
SUMMARY:RASPORED BLAGOSLOVA OBITELJI ZA ŽUPU PETRIĆEVAC 2019.
DESCRIPTION:Četvrtak\, 26.12. od 13\,00 sati \nI.G. Kovačića\, Dragana Bubića\, Mlađe Ćusića\, Hercegnovska i Bilećka. \nPetak\, 27.12. od 09\,00 sati \nRakovac i dio Petrićevca\, to jest ulice: Kralja Aleksandra\, Lijevčanska\, J. Raškovića\, Majevička\, Tromeđa i Vase Vidovića. \nSubota\, 28. 12. od 09\, 00 sati \nOstatak Petrićevca. \nNedjelja\, 29.12. od 10\,00 sati \nRosulje \nPonedjeljak\, 30.12. od 09\,00 sati \nVujinovići\, Novakovići i Šargovac \nUtorak\, 31.12. od 09\,00 sati \nBudžak III.
URL:https://www.samostan-petricevac.org/najave/raspored-blagoslova-obitelji-za-zupu-petricevac-2019/
ATTACH;FMTTYPE=image/jpeg:https://www.samostan-petricevac.org/wp-content/uploads/2019/12/1.-Raspored-Blagoslova-kuća.jpg
END:VEVENT
BEGIN:VEVENT
DTSTART;VALUE=DATE:20191226
DTEND;VALUE=DATE:20191227
DTSTAMP:20260425T155425
CREATED:20191221T114648Z
LAST-MODIFIED:20191221T114648Z
UID:3362-1577318400-1577404799@www.samostan-petricevac.org
SUMMARY:SV. STJEPAN\, PRVOMUČENIK
DESCRIPTION:U četvrtak je sv. Stjepan\, prvomučenik. Toga dana tradicionalno imamo sv. Misu na Motičkom groblju u 11:00 sati. To će biti prigoda da obiđemo svoje drage pokojne i pomolimo se za njih u ovom svetom vremenu.
URL:https://www.samostan-petricevac.org/najave/sv-stjepan-prvomucenik/
ATTACH;FMTTYPE=image/jpeg:https://www.samostan-petricevac.org/wp-content/uploads/2019/12/svetistjepan.jpg
END:VEVENT
BEGIN:VEVENT
DTSTART;VALUE=DATE:20191220
DTEND;VALUE=DATE:20191221
DTSTAMP:20260425T155425
CREATED:20191128T170033Z
LAST-MODIFIED:20191127T204948Z
UID:3110-1576800000-1576886399@www.samostan-petricevac.org
SUMMARY:VI. IZLOŽBA BOŽIĆNIH JASLICA
DESCRIPTION:I ove godine po šesti puta Opća gimnazija “Bl. Ivan Merz” organizira u Banjoj Luci izložbu Božićnih jaslica. Svi mogu donijeti svoje ručne radove jaslica a stručni će žiri odlučiti čije su jaslice među najljepšima i pri tome pobjednike nagraditi vrijednim novčanim nagradama. Sve detaljnije informacije imate na plakatu ispod. \nIzvor: Samostan Petrićevac
URL:https://www.samostan-petricevac.org/najave/vi-izlozba-bozicnih-jaslica/
LOCATION:Banja Luka
ATTACH;FMTTYPE=image/jpeg:https://www.samostan-petricevac.org/wp-content/uploads/2019/11/13.-Šesta-izložba-božićnih-jaslica-1.jpg
END:VEVENT
BEGIN:VEVENT
DTSTART;VALUE=DATE:20191215
DTEND;VALUE=DATE:20191216
DTSTAMP:20260425T155425
CREATED:20191211T080009Z
LAST-MODIFIED:20191210T084530Z
UID:3032-1576368000-1576454399@www.samostan-petricevac.org
SUMMARY:DUHOVNA OBNOVA ZA FRAMAŠE SESVETSKA SOPNICA I FRAME PETRIĆEVAC
DESCRIPTION:U nedjelju\, dana 15. prosinca Frami Petrićevac u posjetu dolazi Frama iz Sesvetske Sopnice kod Zagreba. Tim povodom će za obje Frame biti organizirana duhovna obnova koju će voditi dvojica duhovnih asistenata. Ovo je prigoda da se mladi obje spomenute Frame na što bolji način pripreme za doček obiteljskog blagdana Božića. \nIzvor: Samostan Petrićevac
URL:https://www.samostan-petricevac.org/najave/duhovna-obnova-za-framase-sesvetska-sopnica-i-frame-petricevac/
LOCATION:Petrićevac\, Banja Luka
ATTACH;FMTTYPE=image/jpeg:https://www.samostan-petricevac.org/wp-content/uploads/2019/11/Das_Kreuz_von_San_Damiano.___de.wikipedia.org__gemeinfrei_-Cristo_de_san_Damian.jpg
END:VEVENT
BEGIN:VEVENT
DTSTART;VALUE=DATE:20191214
DTEND;VALUE=DATE:20191215
DTSTAMP:20260425T155425
CREATED:20191115T090025Z
LAST-MODIFIED:20191113T073641Z
UID:3027-1576281600-1576367999@www.samostan-petricevac.org
SUMMARY:DUHOVNA OBNOVA NA PETRIĆEVCU
DESCRIPTION:Dana 14. prosinca u samostanskoj crkvi na Petrićevcu održat će se jednodnevna duhovna obnova otvorenog tipa koju će predvoditi župnik iz Šurkovca fra Ivo Pavić. Ova duhovna obnova će uključivati prigodu za svetu ispovijed\, svetu misu i prigodni molitveni program za sve sudionike ove duhovne obnove. Ovo je ujedno prigoda da se vjernici mogu pripremiti za najradosniji kršćanski blagdan Božić. Dobro došli! \nIzvor: Samostan Petrićevac
URL:https://www.samostan-petricevac.org/najave/duhovna-obnova-na-petricevcu/
LOCATION:Petrićevac\, Banja Luka
ATTACH;FMTTYPE=image/jpeg:https://www.samostan-petricevac.org/wp-content/uploads/2019/11/Duhovna-obnova-na-Petrićevcu.jpg
END:VEVENT
BEGIN:VEVENT
DTSTART;VALUE=DATE:20191207
DTEND;VALUE=DATE:20191208
DTSTAMP:20260425T155425
CREATED:20191119T124528Z
LAST-MODIFIED:20191119T143216Z
UID:3046-1575676800-1575763199@www.samostan-petricevac.org
SUMMARY:ADVENTSKA DUHOVNA OBNOVA ZA DJECU I MLADE
DESCRIPTION:U subotu\, dana 7. prosinca ove godine u samostanu sestara Klanjateljica Krvi Kristove u Budžaku održat će se duhovna obnova za djecu i mlade. Vrijeme održavanja za osnovnoškolce\, djecu od 3 do 9 razreda bit će u prijepodnevnom terminu od 9 do 12 sati. Termin duhovne obnove za mlade\, srednjoškolce i studente bit će u popodnevnom terminu od 15 do 18 sati. \nPrijave je potrebno obaviti najkasnije do 1. prosinca s. Ivani Milićević sms-om ili pozivom na broj 063/614-853 ili Viberom i Whatsappom na broj +385 98/9004-703. \nKod prijava za sudionike važno je navesti slijedeće: ime\, prezime\, kontakt (telefon\, e-mail)\, razred (osnovna ili srednja škola). \nZa mlade bit će mogućnost i za božićnu ispovijed te Sveta misa. \nSvi ste dobro došli!
URL:https://www.samostan-petricevac.org/najave/adventska-duhovna-obnova-za-djecu-i-mlade/
LOCATION:Banja Luka
ATTACH;FMTTYPE=image/jpeg:https://www.samostan-petricevac.org/wp-content/uploads/2019/11/Adventska-duhovna-obnova-za-djecu-u-mlade.jpg
END:VEVENT
BEGIN:VEVENT
DTSTART;VALUE=DATE:20191126
DTEND;VALUE=DATE:20191127
DTSTAMP:20260425T155426
CREATED:20191113T110018Z
LAST-MODIFIED:20191117T091301Z
UID:3024-1574726400-1574812799@www.samostan-petricevac.org
SUMMARY:OBLJETNICA STRAVIČNOG POTRESA U BANJOJ LUCI 1969.
DESCRIPTION:Ove godine se navršava pola stoljeća od stravičnog potresa koji je pogodio grad Banja Luku i njenu okolicu. U samo dva dana potresa je bilo nekoliko\, ali najjači je bio onaj posljednji koji se dogodio točno 27. listopada 1969. u 09:11 minuta po lokalnom vremenu. \nTim povodom samostan na Petrićevcu\, koji je i sam pretrpio ogromnu štetu kako na prijašnjoj crkvi tako i na samoj zgradi samostana\, organizira prigodnu izložbu fotografija tog nemilog događaja. Izložba će se održati 26. studenog s početkom u 18:00 h u prostorijama samostanske crkve na Petrićevcu. Ovo je prigoda da se kroz objektiv fotoaparata prisjetimo tih stravičnih prizora\, ali i da se osvjedočimo kako se ljudskim naporima i zalaganjem može podići iz “pepela”. Dobro došli! \nInfo materijal:\n– Plakat (.pdf) \nIzvor: Samostan Petrićevac
URL:https://www.samostan-petricevac.org/najave/obljetnica-stravicnog-potresa-u-banjoj-luci-1969/
LOCATION:Petrićevac\, Banja Luka
ATTACH;FMTTYPE=image/jpeg:https://www.samostan-petricevac.org/wp-content/uploads/2019/11/Obljetnica-stravičnog-potresa-u-Banjoj-Luci.jpg
END:VEVENT
BEGIN:VEVENT
DTSTART;VALUE=DATE:20191027
DTEND;VALUE=DATE:20191102
DTSTAMP:20260425T155426
CREATED:20191005T185024Z
LAST-MODIFIED:20191006T100914Z
UID:2459-1572134400-1572652799@www.samostan-petricevac.org
SUMMARY:RASPORED SV. MISA O SVETKOVINI SVIH SVETIH ZA GODINU 2019.
DESCRIPTION:Sestre i braćo\, dragi naši župljani u zemlji i inozemstvu. Ostalo je još manje od mjesec dana do svetkovine Svih Svetih kad ćete vi\, vjerujemo\, u velikom broju doći da obiđete svoje pokojne i da se zajedno s nama pomolite za njihove duše. Kako biste se mogli što bolje organizirati i ovim putem\, preko naše samostanske web stranice\, objavljujemo raspored svetih misa na naša dva groblja: \nNa groblju sv. Franje (Samostansko groblje) sveta misa je u nedjelju 27. listopada u 11:00 sati. \nNa groblju sv. Stjepana (Motičko groblje) sveta misa je na svetkovinu Svih Svetih 01. studenog u također u 11:00 sati. \nKao i prošlih godina i ove ćemo godine moliti opijela (molitve za pokojne) prije svetih misa. \nIzvor: Samostan Petrićevac
URL:https://www.samostan-petricevac.org/najave/raspored-sv-misa-o-svetkovini-svih-svetih-za-godinu-2019/
LOCATION:Banja Luka
ATTACH;FMTTYPE=image/jpeg:https://www.samostan-petricevac.org/wp-content/uploads/2019/10/Svi-Sveti.jpg
END:VEVENT
BEGIN:VEVENT
DTSTART;VALUE=DATE:20191022
DTEND;VALUE=DATE:20191023
DTSTAMP:20260425T155426
CREATED:20191014T132359Z
LAST-MODIFIED:20191014T132557Z
UID:2568-1571702400-1571788799@www.samostan-petricevac.org
SUMMARY:PRVA OBLJETNICA POSVETE CRKVE NA PETRIĆEVCU
DESCRIPTION:Dana 22. listopada ove godine samostanska i župna zajednica na Petrićevcu proslavit će prvu obljetnicu posvete crkve sv. Ante Padovanskog na Petrićevcu. Budući da je taj datum i spomendan sv. Ivana Pavla II. pape\, a koji je prije 16 godina pohodio ovo mjesto\, prigoda je da se toga dana prisjetimo pastirskog pohoda ovoga sveca gradu Banjaluci i ovome samostanu. Svečano misno slavlje u 17:00 sati predvodit će fra Ivo Orlovac\, župnik župe Barlovci. Dobro nam došli da zajedno proslavimo ovaj značajan datum za našu župnu zajednicu. \nIzvor: Samostan Petrićevac
URL:https://www.samostan-petricevac.org/najave/prva-obljetnica-posvete-crkve-na-petricevcu/
LOCATION:Banja Luka
ATTACH;FMTTYPE=image/jpeg:https://www.samostan-petricevac.org/wp-content/uploads/2019/09/39-2.jpg
END:VEVENT
BEGIN:VEVENT
DTSTART;VALUE=DATE:20191019
DTEND;VALUE=DATE:20191020
DTSTAMP:20260425T155426
CREATED:20191006T100758Z
LAST-MODIFIED:20191006T100758Z
UID:2462-1571443200-1571529599@www.samostan-petricevac.org
SUMMARY:SUSRET BROĆANSKOG I BANJOLUČKOG DEKANATA NA PETRIĆEVCU
DESCRIPTION:Prije nekoliko godina\, na susretu biskupa i dekana Vrhbosanske metropolije\, koji se održao u Travniku\, odlučeno je da se dekanati cijele BiH međusobno upoznaju\, zbliže i združe. To će se postići tako da svaki dekanat sa svojim dekanom\, svećenicima i vjernicima pohodi partnerski dekanat koji mu je dodijeljen. Naš Banjolučki dekanat za svoj partnerki dekanat dobio je Broćanski iz Hercegovine u koji spadaju ove župe: Čerin\, Čitluk\, Gradina\, Gradnići\, Kruševo\, Međugorje i Ploče – Tepčić. \nSusret ova dva dekanata bit će u subotu 19. listopada na Petrićevcu. Svetu misu u 11:00 sati predvodit će dekan don Đuro Bender\, župnik u Gradini. Nakon mise bit će predstavljanje oba dekanata te prigodni kratki koncert kojeg će izvesti klapa gostujućeg dekanata. Naš Banjolučki dekanat u koji spadaju župe: Banja Luka\, Barlovci\, Budžak\, Ivanjska\, Marija Zvijezda\, Motike\, Petrićevac\, Presnače\, Šimići i Trn zajedničkim će angažmanom počastiti kako goste tako i domaće vjernike čorbancom\, pićem i kolačima. Nakon ručka predviđen je posjet gostujućeg dekanata samostanu Trapista\, župi Presnače i katedrali. Potičemo sve naše vjernike da odvoje svoje vrijeme te dođu na ovaj susret i zajedničko druženje. \nIzvor: Samostan Petrićevac
URL:https://www.samostan-petricevac.org/najave/susret-brocanskog-i-banjoluckog-dekanata-na-petricevcu/
LOCATION:Banja Luka
ATTACH;FMTTYPE=image/jpeg:https://www.samostan-petricevac.org/wp-content/uploads/2019/10/Susret-Broćanskog-i-Banjolučkog-dekanata.jpg
END:VEVENT
BEGIN:VEVENT
DTSTART;VALUE=DATE:20191018
DTEND;VALUE=DATE:20191019
DTSTAMP:20260425T155426
CREATED:20191010T082555Z
LAST-MODIFIED:20191010T082743Z
UID:2492-1571356800-1571443199@www.samostan-petricevac.org
SUMMARY:"KORAK DO BOSNE"
DESCRIPTION:Hrvatsko kulturno društvo Napredak iz Banja Luke objavljuje da će\, Studentski teatar Franjevačke teologije iz Sarajeva\, izvesti poznati scenski prikaz o životu i djelu poznatog Banjalučanina fra Ivana Frane Jukića. Ovim putem pozivaju se svi ljubitelji kulture i poštovatelji ovog povijesnog velikana da 18. listopada 2019. s početkom u 19 sati\, dođu u gradsko kazalište Jazavac u Banjoj Luci. Dobro došli! \nIzvor: Samostan Petrićevac
URL:https://www.samostan-petricevac.org/najave/korak-do-bosne/
LOCATION:Banja Luka
ATTACH;FMTTYPE=image/jpeg:https://www.samostan-petricevac.org/wp-content/uploads/2019/10/Korak-do-Bosne.jpg
END:VEVENT
BEGIN:VEVENT
DTSTART;VALUE=DATE:20191012
DTEND;VALUE=DATE:20191013
DTSTAMP:20260425T155426
CREATED:20190923T173856Z
LAST-MODIFIED:20191006T101711Z
UID:2274-1570838400-1570924799@www.samostan-petricevac.org
SUMMARY:HODOČAŠĆE U MARIJU BISTRICU
DESCRIPTION:Kao i svake godine tako se i ove\, po odredbi naših biskupa u BiH\, 12. listopada organizira se tradicionalno hodočašće u marijasnko svetište u Mariju Bistricu. Prigoda je to da katolici iz dvije biskupije u BiH Banjolučke i Vrhbosanske pohode ovo svetište. Organizator puta za našu regiju je i ovaj put vlč. Žarko Vladimir Ošap\, župnik Banjolučki. \nSvi oni koji žele biti sudionici ovogodišnjeg hodočašća trebaju se prijaviti kod organizatora\, a mogu to učiniti i u župnom uredu na Petrićevcu. Polazak je predviđen ujutro u 4:30 sati\, a cijena je 25\,00 KM. \nIzvor: Samostan Petrićevac
URL:https://www.samostan-petricevac.org/najave/hodocasce-u-mariju-bistricu/
LOCATION:Marija Bistrica
ATTACH;FMTTYPE=image/jpeg:https://www.samostan-petricevac.org/wp-content/uploads/2019/09/20171014_143556.jpg
END:VEVENT
BEGIN:VEVENT
DTSTART;VALUE=DATE:20191009
DTEND;VALUE=DATE:20191010
DTSTAMP:20260425T155426
CREATED:20191007T101908Z
LAST-MODIFIED:20191007T101908Z
UID:2467-1570579200-1570665599@www.samostan-petricevac.org
SUMMARY:POZIV NA SAMOSTANSKI KAPITUL
DESCRIPTION:Obavještavaju se sva braća našeg samostanskog dištrikta da će se\, u srijedu 09. listopada u prostorijama franjevačkog samostana na Petrićevcu\, održati redovni jesenski kapitul s početkom u 10:00 sati. \nMir i dobro! \nIzvor: Samostan Petrićevac
URL:https://www.samostan-petricevac.org/najave/poziv-na-samostanski-kapitul/
LOCATION:Banja Luka
ATTACH;FMTTYPE=image/png:https://www.samostan-petricevac.org/wp-content/uploads/2019/09/logo-2019-3.png
END:VEVENT
BEGIN:VEVENT
DTSTART;VALUE=DATE:20191006
DTEND;VALUE=DATE:20191012
DTSTAMP:20260425T155426
CREATED:20190831T131656Z
LAST-MODIFIED:20190831T131656Z
UID:1386-1570320000-1570838399@www.samostan-petricevac.org
SUMMARY:Duhovne vježbe u franjevačkom samostanu u Pazinu
DESCRIPTION:Draga braćo\, \nu dogovoru s Južnoslavenskom konferencijom provincijalnih ministara\, u Kući molitve naše Konferencije u Franjevačkom samostanu Pohođenja Marijina u Pazinu\, za svu braću iz Konferencije od 6. do 11. listopada 2019. održat će se duhovne vježbe s temom „Pretvoriti se u molitvu (usp. 2 Čel 95)“. Duhovne vježbe utemeljene na biblijskim i franjevačkim tekstovima moderirat će fra Darko Tepert. \nNa duhovnim vježbama poseban naglasak bit će stavljen na molitvu i šutnju\, a jedan dan bit će predložen i post. \nOkupljanje je u nedjelju\, 6. listopada\, do 18\,30\, a završetak je u petak\, 11. listopada\, s ručkom. \nZainteresirana braća mogu se javiti na e-mail: fratri.pazin@gmail.com \nNaše mogućnosti prihvata nisu velike\, pa na duhovnim vježbama može sudjelovati desetak braće. Stoga vas molimo da se na vrijeme prijavite. \nUz srdačan pozdrav\, \nfra Darko Tepert\ngvardijan
URL:https://www.samostan-petricevac.org/najave/duhovne-vjezbe-u-franjevackom-samostanu-u-pazinu/
LOCATION:Pazin
ATTACH;FMTTYPE=image/jpeg:https://www.samostan-petricevac.org/wp-content/uploads/2019/08/img_2019_101_001.jpg
END:VEVENT
BEGIN:VEVENT
DTSTART;VALUE=DATE:20191003
DTEND;VALUE=DATE:20191004
DTSTAMP:20260425T155426
CREATED:20191001T095654Z
LAST-MODIFIED:20191001T102452Z
UID:2402-1570060800-1570147199@www.samostan-petricevac.org
SUMMARY:OBRED PREMINUĆA SV. FRANJE
DESCRIPTION:Dana 03. listopada redovnici i redovnice\, članovi reda sv. Franje\, na poseban način časte trenutak kad je naš sv. Otac Franjo pošao u susret sestrici smrti (kako je on od milja volio nazivati). U katoličkoj crkvi postoje samo dva obreda preminuća. To su na Veliki petak – Muka i smrt Isusa Krista i ovaj\, sjećanje na dan kad je preminuo sv. Franjo. \nNaša zajednica će ove godine po PRVI PUTA nakon rata imati obred preminuća u samostanskoj crkvi na Petrićevcu\, što nas sve članove ove zajednice čini sretnima i ponosnima. Svi koji žele nazočiti ovom obredu su dobro došli. Krunica će biti u 17:30h a obred preminuća i sveta misa u 18:00 sati. \nIzvor: Samostan Petrićevac
URL:https://www.samostan-petricevac.org/najave/obred-preminuca-sv-franje/
LOCATION:Banja Luka
ATTACH;FMTTYPE=image/jpeg:https://www.samostan-petricevac.org/wp-content/uploads/2019/10/Franjevaštvo-35.jpg
END:VEVENT
BEGIN:VEVENT
DTSTART;VALUE=DATE:20190924
DTEND;VALUE=DATE:20190928
DTSTAMP:20260425T155426
CREATED:20190923T174949Z
LAST-MODIFIED:20190923T175524Z
UID:2278-1569283200-1569628799@www.samostan-petricevac.org
SUMMARY:HODOČAŠĆE U LUDBREG
DESCRIPTION:Družba sestara Klanjateljice Krvi Kristove organiziraju u subotu 28. rujna hodočašće u poznato nacionalno svetište Krvi Kristove u Ludbregu nedaleko od Varaždina za članove zajednice Krvi Kristove iz Banja Luke. Članovima spomenute zajednice mogu se pridružiti i ostali vjernici laici koji bi ovom prilikom željeli pohoditi ovo svetište. Cijena putovanja bi trebala biti između 25 i 30 KM ovisno o broju prijavljenih sudionika. \nPolazak je ispred Banjolučke katedrale u 5 sati u jutro\, a u Budžaku ispred kuće časnih sestara u 5:30 h. Povratak je isti dan navečer\, ne prekasno. \nZainteresirani se mogu prijaviti na telefone kontakt osoba: s. Ancilla Vukoja: 063/789-550 i gđa Antonija Todorović 066/250-550
URL:https://www.samostan-petricevac.org/najave/hodocasce-u-ludbreg/
LOCATION:Ludbreg
ATTACH;FMTTYPE=image/jpeg:https://www.samostan-petricevac.org/wp-content/uploads/2019/09/20_Ludbreg_svetiste.jpg
END:VEVENT
BEGIN:VEVENT
DTSTART;VALUE=DATE:20190913
DTEND;VALUE=DATE:20190915
DTSTAMP:20260425T155426
CREATED:20190906T153625Z
LAST-MODIFIED:20190906T153625Z
UID:1669-1568332800-1568505599@www.samostan-petricevac.org
SUMMARY:Obljetnica susreta fra Anđela Zvizdovića i sultana Mehmeda el-Fatiha
DESCRIPTION:JUŽNOSLAVENSKA KONFERENCIJA OFM \nSLOVENIJA – HRVATSKA – BOSNA I HERCEGOVINA \nFRANJEVAČKA PROVINCIJA SVETOG KRIŽA \nBOSNA SREBRENA – SARAJEVO \nFRANJEVAČKI SAMOSTAN DUHA SVETOGA – FOJNICA \n  \n800. obljetnica susreta svetog Franje Asiškog i sultana Malika al-Kamila \n555. obljetnica susreta fra Anđela Zvizdovića i sultana Mehmeda el-Fatiha \nSredišnji događaj proslave u Fojnici \n  \nPetak\, 13. 9. 2019. \nFranjevački samostan Duha Svetoga\, Fojnica \n15.30   Doček uzvanika i razgledavanje muzeja \n17.00   Obraćanje uzvanicima: fra Mirko Majdandžić\, gvardijan i gosp. Mile Blažević\, kipar \nBlagoslov kipa fra Anđela Zvizdovića „Spomenik susreta“\, fra Jozo Marinčić\, provincijal \nHotel Reumal\, Fojnica \n18.00   Akademija „Hommage fra Anđelu Zvizdoviću“ u velikoj dvorani \n– Pozdravni govor: fra Jozo Marinčić\, provincijal \n– Prigodan govor: „Susret Zapada i Istoka“\, prof. dr. fra Marko Karamatić \n– Izabrane pjesme: Zbor bogoslova „Fra Nenad Dujić“\, dirigent fra Emanuel Josić \n– Dramski komad: Dževad Karahasan\, „Kušnje fra Anđela Zvizdovića“\, izvode: bogoslovi Franjevačke teologije u Sarajevu\, režija: Gordana Boban \n19.30   Večera u restoranu \n  \nSubota\, 14. 9. 2019. \nFranjevački samostan Duha Svetoga\, Fojnica \nKAPITUL NA ROGOŽINAMA \n9.00     Okupljanje fratara i svećenika \n10.00   Prigodan govor: „Duhovni lik fra Anđela Zvizdovića“\, mons. fra Marko Semren\, biskup \n12.00   Sv. misu predvodi mons. fra Marko Semren\, biskup / homilija dr. fra Ivan Sesar\, gen. definitor i izaslanik Generalnog ministra OFM\, a u koncelebraciji su provincijali: fra Marjan Čuden (Ljubljana)\, fra Ilija Vrdoljak (Zagreb)\, fra Andrija Bilokapić (Zadar)\, fra Marko Mrše (Split)\, fra Miljenko Šteko (Mostar)\, fra Josip Blažević (OFMConv)\, fra Jure Šarčević (OFMCap)\, fra Ivo Martinović (TOR) i fra Jozo Marinčić (Sarajevo) i svećenici \n13.00   Ručak \n14.00   Bratski susret i razgledavanje muzeja \n17.00   Završetak
URL:https://www.samostan-petricevac.org/najave/obljetnica-susreta-fra-andela-zvizdovica-i-sultana-mehmeda-el-fatiha/
LOCATION:Fojnica
ATTACH;FMTTYPE=image/jpeg:https://www.samostan-petricevac.org/wp-content/uploads/2019/09/izgradnja_spomenika_fra_andjelu_zvizdovicu.jpg
END:VEVENT
END:VCALENDAR