BEGIN:VCALENDAR
VERSION:2.0
PRODID:-//Franjevački samostan Petrićevac - ECPv6.15.16.1//NONSGML v1.0//EN
CALSCALE:GREGORIAN
METHOD:PUBLISH
X-WR-CALNAME:Franjevački samostan Petrićevac
X-ORIGINAL-URL:https://www.samostan-petricevac.org
X-WR-CALDESC:Događaji za Franjevački samostan Petrićevac
REFRESH-INTERVAL;VALUE=DURATION:PT1H
X-Robots-Tag:noindex
X-PUBLISHED-TTL:PT1H
BEGIN:VTIMEZONE
TZID:Europe/Zagreb
BEGIN:DAYLIGHT
TZOFFSETFROM:+0100
TZOFFSETTO:+0200
TZNAME:CEST
DTSTART:20230326T010000
END:DAYLIGHT
BEGIN:STANDARD
TZOFFSETFROM:+0200
TZOFFSETTO:+0100
TZNAME:CET
DTSTART:20231029T010000
END:STANDARD
BEGIN:DAYLIGHT
TZOFFSETFROM:+0100
TZOFFSETTO:+0200
TZNAME:CEST
DTSTART:20240331T010000
END:DAYLIGHT
BEGIN:STANDARD
TZOFFSETFROM:+0200
TZOFFSETTO:+0100
TZNAME:CET
DTSTART:20241027T010000
END:STANDARD
BEGIN:DAYLIGHT
TZOFFSETFROM:+0100
TZOFFSETTO:+0200
TZNAME:CEST
DTSTART:20250330T010000
END:DAYLIGHT
BEGIN:STANDARD
TZOFFSETFROM:+0200
TZOFFSETTO:+0100
TZNAME:CET
DTSTART:20251026T010000
END:STANDARD
BEGIN:DAYLIGHT
TZOFFSETFROM:+0100
TZOFFSETTO:+0200
TZNAME:CEST
DTSTART:20260329T010000
END:DAYLIGHT
BEGIN:STANDARD
TZOFFSETFROM:+0200
TZOFFSETTO:+0100
TZNAME:CET
DTSTART:20261025T010000
END:STANDARD
BEGIN:DAYLIGHT
TZOFFSETFROM:+0100
TZOFFSETTO:+0200
TZNAME:CEST
DTSTART:20270328T010000
END:DAYLIGHT
BEGIN:STANDARD
TZOFFSETFROM:+0200
TZOFFSETTO:+0100
TZNAME:CET
DTSTART:20271031T010000
END:STANDARD
END:VTIMEZONE
BEGIN:VEVENT
DTSTART;VALUE=DATE:20240316
DTEND;VALUE=DATE:20240317
DTSTAMP:20260426T043814
CREATED:20240229T131106Z
LAST-MODIFIED:20240229T131220Z
UID:12679-1710547200-1710633599@www.samostan-petricevac.org
SUMMARY:KARIZMATSKA DUHOVNA OBNOVA FRA IVE PAVIĆA
DESCRIPTION:Dana 16. ožujka 2024. godine naša će samostanska i župna zajednica ugostiti fra Ivu Pavića\, župnika u Šurkovcu\, koji će održati jednodnevnu karizmatsku duhovnu obnovu s početkom u 13:00h. Početak programa duhovne obnove u samostanskoj i župnoj crkvi sv. Ante na Petrićevcu bit će uobičajeni nagovor Fra Ive Pavića\, potom molitve za oslobođenje i ozdravljenje\, nakon čega slijedi sveta misa. Po završetku svete mise slijedi pojedinačno polaganje ruku. \nU nastavku možete pročitati životopis fra Ive Pavića \n dr. sc. fra Ivo Pavić\, OFM \nFra Ivo Pavić rođen je 1965. u Hrvatskoj Tišini kraj Bosanskog Šamca gdje je pohađao srednju školu. U dvadeset četvrtoj godini života čuo je Gospodinov glas: Bit ćeš moj svećenik. Odmah se odazvao i javio u franjevačku provinciju Bosnu Srebrenu iako je već radio u jednoj tvornici i nije razmišljao o duhovnom zvanju. Stupio je u postulaturu u franjevačku gimnaziju u Visokom 1988. i u novicijat u Sarajevu 1989. Nakon završetka novicijata i prve godine studija bio je za vrijeme rata tri godine u progonstvu u Samoboru i Austriji. U progonstvu je 1995. položio vječne redovničke zavjete. Kardinal Vinko Puljić zaredio ga je za đakona 1996. i za svećenika 1997. godine u Sarajevu. Diplomirao je na Franjevačkoj teologiji u Sarajevu 2000. godine. Bio je župni vikar u Rumbocima\, Uskoplju\, Tuzli i Tolisi. \nSlužbu nove evangelizacije počeo je 2000. godine. Držao je duhovne obnove u Bosni i Hercegovini\, Hrvatskoj\, Makedoniji\, Sloveniji\, Srbiji te u ostalim europskim župama i u našim hrvatskim katoličkim misijama u mnogim gradovima Njemačke\, Švicarske\, Austrije\, Italije i u New Yorku. Posvuda gdje je propovijedao nikle su molitvene zajednice. \nU Tolisi je fra Ivo osnovao molitvenu zajednicu Dva srca koja je sudjelovala u organizaciji tjednih i kasnije mjesečnih molitvenih susreta na kojima je od 2003. prisustvovalo na tisuće vjernika iz cijeloga svijeta. Na posljednji fra Ivin susret u kolovozu 2005. godine došlo je u Tolisu po velikoj kiši trideset tisuća ljudi. \nNjegova je knjiga Žedan sam doživjela u kratko vrijeme dva izdanja (2005. i 2006.). Na Institutu za duhovnost Papinskog sveučilišta Gregoriana u Rimu magistrirao je 2007. g. na temu Ozdravljenje po molitvi i tako proslavio deset godina svećeništva. Prijevod magisterija s talijanskoga na hrvatski s nekim dodacima i prilagodbama izišao je kao knjiga pod naslovom „Molitvom do zdravlja“ Zagreb\, 2008. Za vrijeme doktorskoga studija u Rimu objavio je knjigu „Put do odgovora“ Osijek\, 2009. u kojoj su objavljeni njegovi razgovori s novinarima pa knjiga sadrži sto pitanja i sto odgovora. \nNakon četiri godine boravka u Rimu na studiju (2005.-2009.) fra Ivo je 10. srpnja 2009. god. imenovan župnikom\, a 20. kolovoza 2009. i službeno preuzeo župu Šurkovac u kojoj su oduvijek župnici bili franjevci Bosne Srebrene i koja je stoljećima imala burnu povijest kroz ratove\, progone i povratke\, tako da su crkve bile više puta rušene i obnavljane. Fra Ivo je odmah dao do kraja srušiti staru crkvu koju su srpske vojne postrojbe 3. 3. 1993. minirale i koja je kao ruševina od 1993. do 2009. bila zarasla u korov. \nUjesen 2009. godine počela je s radom ova mrežna stranica www.zupa-surkovac.com preko koje se povezao sa svim župljanima koji nisu više u Šurkovcu kao i sa svima koji su željeli doći u Šurkovac. Na stranici se bilježe sva događanja u župi u slici i na videu\, pismena svjedočenja hodočasnika i objavljuju vijesti i najavljuju nova događanja. \nZahvaljujući velikodušnosti brojnih hodočasnika iz BiH\, Hrvatske i Europe koji dolaze k fra Ivi u Šurkovac\, zatim Hrvatima\, Nijemcima i Talijanima kojima fra Ivo drži duhovne obnove u BiH i inozemstvu\, kao i kvalitetnom radu građevinske tvrtke Šandrk d. o. o. iz Hrvatske\, za dvije godine na mjestu stare crkve nikla je nova. Otvorena je i privatna gostionica preko puta crkve za hodočasnike. Općina je popravila cestu\, obnovila i povećala rasvjetu i očistila kanale uz cestu. \nNa Sveta tri kralja 2011. osnovao je kao župnik molitvenu zajednicu Srca Isusova u Šurkovcu koja ima dvadesetak članova i sastaje se svakoga četvrtka. \n8. lipnja 2011. mr. sc. fra Ivo Pavić obranio je doktorat na talijanskom jeziku pod naslovom: “Il Battesimo nello Spirito Santo nella Chiesa con riferimento particolare al contesto della Croazia e Bosnia ed Erzegovina” (Krštenje u Duhu Svetom u Crkvi s posebnim osvrtom na kontekst u Hrvatskoj i Bosni i Hercegovini) na Institutu za duhovnost Papinskoga sveučilišta Gregoriana u Rimu i time stekao akademski stupanj doktora znanosti. Njegovi su ga župljani radosno dočekali i priredili veliko slavlje na dan kad se vratio kao doktor znanosti iz Rima. \nHodočasnici i dalje dolaze u sve većem broju. Na Duhove 12. lipnja 2011. godine bilo je na misi nekoliko tisuća hodočasnika koji su doputovali u 40 autobusa i mnogim automobilima. U 2011. g. župu je posjetilo oko 80.000 hodočasnika. U 2012. do kolovoza je došlo 120.000. \nIzvor: Samostan Petrićevac
URL:https://www.samostan-petricevac.org/najave/karizmatska-duhovna-obnova-fra-ive-pavica/
ATTACH;FMTTYPE=image/jpeg:https://www.samostan-petricevac.org/wp-content/uploads/2024/02/12674559_10206529312616467_1103807060_n-860x450_c.jpg
END:VEVENT
BEGIN:VEVENT
DTSTART;VALUE=DATE:20240328
DTEND;VALUE=DATE:20240402
DTSTAMP:20260426T043814
CREATED:20240326T202000Z
LAST-MODIFIED:20240326T202128Z
UID:12865-1711584000-1712015999@www.samostan-petricevac.org
SUMMARY:SVETO VAZMENO TRODNEVLJE | 2024
DESCRIPTION:Sveto Vazmeno trodnevlje započinje na Veliki četvrtak\, najčešće ujutro kada se obavlja misa posvete ulja u stolnoj crkvi u zajedništvu sa mjesnim ordinarijem na kojoj se blagoslivlja ulje za bolesničko pomazanje\, te posvećuju ulja za svetu potvrdu i katekumensko ulje. Uvečer na Veliki četvrtak slavi se misa Večere Gospodnje – spomen uspostave sakramenata svetog reda i euharistije. Na na Veliki petak nema sv. mise\, obavljaju se služba Muke Gospodnje kada crkva ostaje uz grob Gospodnji razmatrajući njegovu muku i smrti uzdržava se od misne žrtve sve do Vazmenog bdijenja u povečerje subote. Nakon svečanog bdijenja ili noćnog iščekivanja uskrsnuća vrijeme je vazmenoj radosti koja u svom obilju traje pedeset dana. \nU nastavku se nalazi raspored misnih slavlja\, obreda i blagoslova za župe Petrićevac\, Motike i Sanski Most: \nVELIKI ČETVRTAK 28.03.2024. – MISA VEČERE GOSPODNJE\nPetrićevac 18: 00 sati.\nSanski Most 18: 00 sati. \nVELIKI PETAK 29.03.2024. – OBREDI VELIKOG PETKA\nPetrićevac 18: 00 sati.\nSanski Most 18:00 sati. \nSUBOTA 30.03.2024. – VAZMENO BDIJENJE\nSanski Most 17:00 sati.\nPetrićevac 20: 00 sati. \nNEDJELJA 31.03.2024.- USKRSNUĆE GOSPODNJE\nPetrićevac 09: 00 sati za † Tomislav i Vinka Kelava.\nMotike 10:30 sati.\nSanski Most 11: 00 sati. \nPONEDJELJAK  01.04.2024.\nMotike 11:00 sati—sveta misa na Motičkome groblju \nRASPORED BLAGOSLOVA JELA\n30.03.2024.—VELIKA SUBOTA\nPetrićevac: u 10:00 sati\nMotike: u 17:00 sati\nVujinovići: u 18:00 sati\nNovakovići: u 18:30 sati\nSanski Most: nakon obreda \nVAŽNO\nNa VELIKI PETAK je zapovjedni post i nemrs za sve koji su navršili 16. godinu života.\nU nedjelju 31.03.2024. započinje ljetno računanje vremena (pomjeranje kazaljke na satu jedan sat unaprijed) \n  \n  \n 
URL:https://www.samostan-petricevac.org/najave/sveto-vazmeno-trodnevlje-2024/
ATTACH;FMTTYPE=image/jpeg:https://www.samostan-petricevac.org/wp-content/uploads/2023/06/fa976d5e-4f3d-48d7-a9b0-1db85e315c8c.jpg
END:VEVENT
BEGIN:VEVENT
DTSTART;VALUE=DATE:20240428
DTEND;VALUE=DATE:20240603
DTSTAMP:20260426T043814
CREATED:20240420T205347Z
LAST-MODIFIED:20240420T205408Z
UID:13006-1714262400-1717372799@www.samostan-petricevac.org
SUMMARY:RASPORED BLAGOSLOVA POLJA I ZAVJETNE MISE U ŽUPAMA PETRIĆEVAC I MOTIKE | 2024
DESCRIPTION:U nastavku se nalazi raspored blagoslova polja i zavjetne mise u župama Petrićevac i Motike za 2024. godinu. \nNedjelja\, 28.04. – NOVAKOVIĆI\nSrijeda\, 01.05. – ŠARGOVAC\nSubota\, 04.05. – MOTIKE – LJEVARI\nSubota\, 11.05. – ČIVČIJE\nNedjelja\, 19.05. – SAMOSTANSKO\nGROBLJE\nNedjelja\, 26.05. – VUJINOVIĆI\nNedjelja\, 02.06. – MARTINOVIĆI \nPočetak svih misa je u 11:00 sati. \nO obredu blagoslova polja možete pronaći ovdje.
URL:https://www.samostan-petricevac.org/najave/raspored-blagoslova-polja-i-zavjetne-mise-u-zupama-petricevac-i-motike-2024/
ATTACH;FMTTYPE=image/jpeg:https://www.samostan-petricevac.org/wp-content/uploads/2023/06/IMG_3448.jpg
END:VEVENT
BEGIN:VEVENT
DTSTART;VALUE=DATE:20240609
DTEND;VALUE=DATE:20240610
DTSTAMP:20260426T043814
CREATED:20240530T083705Z
LAST-MODIFIED:20240530T083705Z
UID:13386-1717891200-1717977599@www.samostan-petricevac.org
SUMMARY:KRIZMA NA PETRIĆEVCU
DESCRIPTION:  \nDana 9. lipnja u župi sv. Ante Padovanskog na Petrićevcu biskup ordinarij mons. Željko Majić podijelit će sakrament zrelosti dvoma krizmanicima. Sveta krizma će biti u 11:00 sati.
URL:https://www.samostan-petricevac.org/najave/krizma-na-petricevcu/
LOCATION:Petrićevac\, Banja Luka
ATTACH;FMTTYPE=image/jpeg:https://www.samostan-petricevac.org/wp-content/uploads/2024/05/IMG_4989.jpg
END:VEVENT
BEGIN:VEVENT
DTSTART;VALUE=DATE:20240610
DTEND;VALUE=DATE:20240614
DTSTAMP:20260426T043814
CREATED:20240603T103237Z
LAST-MODIFIED:20240603T103418Z
UID:13417-1717977600-1718323199@www.samostan-petricevac.org
SUMMARY:PROSLAVA SV. ANTE 2024
DESCRIPTION:Radost nam je najaviti kako će naša samostanska i župna zajednica i ove godine proslaviti svog nebeskog zaštitnika sv. Antu Padovanskog. Samoj proslavi prethodit će trodnevnica u 18h. Pola sata prije svetih misa trodnevnice molit će se Gospina krunica. Na svetkovinu sv. Ante bit će rana\, jutarnja\, pučka i večernja sveta misa. Nakon središnjeg misnog slavlja imat ćemo blagoslov djece i ljiljana. Detaljne informacije o terminima svetih misa kao i o njihovim prevoditeljima možete pronaći na plakatu ispod.
URL:https://www.samostan-petricevac.org/najave/proslava-sv-ante-2024/
ATTACH;FMTTYPE=image/jpeg:https://www.samostan-petricevac.org/wp-content/uploads/2023/06/IMG-20230613-WA0019.jpg
END:VEVENT
BEGIN:VEVENT
DTSTART;VALUE=DATE:20240622
DTEND;VALUE=DATE:20240630
DTSTAMP:20260426T043814
CREATED:20240622T091823Z
LAST-MODIFIED:20240622T091823Z
UID:13635-1719014400-1719705599@www.samostan-petricevac.org
SUMMARY:40. GODINA ŽUPE MOTIKE
DESCRIPTION:U Motikama ćemo 29.6.2024. godine na svetkovinu sv. Petra i Pavla proslaviti 40 godina od osnutka župe i patron župe Motike sv. Petra i Pavla. Svečana sv. Misa je u 11:00 sati. Sv. Misu predvodi fra Ivo Orlovac. Svi ste dobrodošli!
URL:https://www.samostan-petricevac.org/najave/40-godina-zupe-motike/
LOCATION:Motike
ATTACH;FMTTYPE=image/jpeg:https://www.samostan-petricevac.org/wp-content/uploads/2024/06/IMG_5826.jpg
END:VEVENT
BEGIN:VEVENT
DTSTART;VALUE=DATE:20241003
DTEND;VALUE=DATE:20241004
DTSTAMP:20260426T043814
CREATED:20240929T123128Z
LAST-MODIFIED:20240929T210525Z
UID:13951-1727913600-1727999999@www.samostan-petricevac.org
SUMMARY:OBRED PREMINUĆA SV. FRANJE | 2024
DESCRIPTION:U četvrtak\, 03. listopada i ove će godine naša franjevačka zajednica na Petrićevcu na poseban način obilježiti će trenutak kada je sv. Franjo pošao u susret sestrici smrti\, kako ju je često volio nazivati. Pored Muke Gospodina našega Isusa Krista na Veliki Petak\, sv. Franjo Asiški jedini je kome je odobren obred preminuća (transitus). Budući da se obred obavlja u mjesecu listopadu pola sata prije svete mise i obreda molit će se Gospina krunica. Svečano misno slavlje predslavi mons. Željko Majić\, biskup banjolučki\, dok obredima predsjeda fra Tomislav Svetinović\, samostanski i župni vikar. Početak obreda je u 18:00 sati. Dobro došli! \nIzvor: Samostan Petrićevac \n \n  \n 
URL:https://www.samostan-petricevac.org/najave/obred-preminuca-sv-franje-2024/
LOCATION:Banja Luka
ATTACH;FMTTYPE=image/jpeg:https://www.samostan-petricevac.org/wp-content/uploads/2023/10/IMG_3761.jpg
END:VEVENT
BEGIN:VEVENT
DTSTART;VALUE=DATE:20241022
DTEND;VALUE=DATE:20241023
DTSTAMP:20260426T043814
CREATED:20241017T064501Z
LAST-MODIFIED:20250309T081413Z
UID:14183-1729555200-1729641599@www.samostan-petricevac.org
SUMMARY:PROSLAVA SV. IVANA PAVLA II.\, PAPE
DESCRIPTION:Dana 22. listopada u 18:00 sati svečano misno slavlje u povodu spomendana sv. Ivana Pavla II.\, pape u župnoj i samostanskoj crkvi sv. Ante na Petrićevcu predvodit će biskup ordinarij mons. Željko Majić. Dobro došli!
URL:https://www.samostan-petricevac.org/najave/proslava-sv-ivana-pavla-ii-pape/
LOCATION:Petrićevac\, Banja Luka
CATEGORIES:najave
ATTACH;FMTTYPE=image/jpeg:https://www.samostan-petricevac.org/wp-content/uploads/2024/10/IMG_2227.jpg
END:VEVENT
BEGIN:VEVENT
DTSTART;VALUE=DATE:20250415
DTEND;VALUE=DATE:20250616
DTSTAMP:20260426T043814
CREATED:20250415T061001Z
LAST-MODIFIED:20250415T070013Z
UID:15031-1744675200-1750031999@www.samostan-petricevac.org
SUMMARY:TERMINI BLAGOSLOVA POLJA ZA ŽUPE PETRIĆEVAC\, MOTIKE I SANSKI MOST
DESCRIPTION:BLAGOSLOV POLJA ZA ŽUPE PETRIĆEVAC I MOTIKE \n1. Četvrtak\, 01.05. – Šargovac (Petrićevac)\n2. Subota\, 03.05. – Ljevari (Motike)\n3. Nedjelja\, 11.05. – Čivčije (Motike)\n4. Nedjelja\, 11.05. – Novakovići (Petrićevac)\n5. Nedjelja\, 18.05. – Samostansko groblje (Petrićevac)\n6. Nedjelja\, 25.05. – Vujinovići (Petrićevac)\n7. Nedjelja\, 01.06. – Martinovići – zavjetna misa (Motike) \nBLAGOSLOV POLJA ZA ŽUPU SANSKI MOST \n1. Nedjelja\, 27.04. – Kruhari (u 13:00 sati)\n2. Subota\, 03.05. – Kijevo\n3. Nedjelja\, 04.05. – Poljak\n4. Nedjelja\, 11.05. – Trnova\n5. Četvrtak\, 29.05. – Šušunjar\n6. Nedjelja\, 15.06. – Klašnica – zavjetna misa \nSvi termini blagoslova polja su u 11:00 sati\, osim 27.04. u Kruharima. Tada je u 13:00 sati!
URL:https://www.samostan-petricevac.org/najave/15031/
ATTACH;FMTTYPE=image/jpeg:https://www.samostan-petricevac.org/wp-content/uploads/2022/04/0-02-0a-57e512f14d192f6e03d77186f2e12d80ddcbc2fedc7da7d282d3cd81216140d6_a9945117.jpg
END:VEVENT
BEGIN:VEVENT
DTSTART;VALUE=DATE:20250610
DTEND;VALUE=DATE:20250614
DTSTAMP:20260426T043814
CREATED:20250608T072049Z
LAST-MODIFIED:20250608T072531Z
UID:15532-1749513600-1749859199@www.samostan-petricevac.org
SUMMARY:PROSLAVA SV. ANTE | 2025
DESCRIPTION:Sveca cijeloga svijeta\, sv. Antu Padovanskog i ove će godine naša samostanska i župna zajednica ne Petrićevcu proslaviti u svečanom ozračju. Proslavi nebeskog zaštitnika naše župe prethodit će trodnevnica u 18:00 sati\, a pola sata prije svetih misa trodnevnice molit će se Gospina krunica. Svete mise na dan proslave sv. Ante Padovanskog su u 07:30\, 09:00\, 10:30 i 18:00 sati. Središnje misno slavlje u 10:30 sati predslavit će fra Zoran Mandić\, župnik u Kotor Varošu. Više informacija možete pronaći na plakatu ispod. \nBLAGOSLOV BOGA SVEMOGUĆEGA I ZAGOVOR SVETOGA ANTE BIO VAZDA S VAMA!
URL:https://www.samostan-petricevac.org/najave/proslava-sv-ante-2025/
LOCATION:Petrićevac\, Banja Luka
ATTACH;FMTTYPE=image/jpeg:https://www.samostan-petricevac.org/wp-content/uploads/2024/06/a485cf19-f07f-46a0-b83c-0ffb925b5288.jpg
ORGANIZER;CN="Franjeva%C4%8Dki samostan Petri%C4%87evac":MAILTO:f.s.petricevac@gmail.com
END:VEVENT
BEGIN:VEVENT
DTSTART;VALUE=DATE:20250715
DTEND;VALUE=DATE:20250716
DTSTAMP:20260426T043814
CREATED:20250711T072958Z
LAST-MODIFIED:20250711T072958Z
UID:15746-1752537600-1752623999@www.samostan-petricevac.org
SUMMARY:PROSLAVA SV. BONAVENTURE U BANJOJ LUCI
DESCRIPTION:Dana 15. srpnja u 18:00 sati bit će proslavljen patron banjolučke biskupije sv. Bonaventura. Ovoj proslavi će prethoditi i trodnevna priprava subota\, nedjelja i ponedjeljak s večernjim misama u 18:00 sati. U nadi da će se na ovu proslavu odazvati što veći broj vjernika banjolučke biskupije kao i njihovih duhovnih pastira neka sve zagovara i prati nebeski zaštitnik naše biskupije sv. Bono. Mir i dobro!
URL:https://www.samostan-petricevac.org/najave/proslava-sv-bonaventure-u-banjoj-luci/
LOCATION:Banja Luka
ATTACH;FMTTYPE=image/jpeg:https://www.samostan-petricevac.org/wp-content/uploads/2025/07/IMG_0021.jpg
END:VEVENT
BEGIN:VEVENT
DTSTART;VALUE=DATE:20250725
DTEND;VALUE=DATE:20250801
DTSTAMP:20260426T043814
CREATED:20250711T071652Z
LAST-MODIFIED:20250711T071652Z
UID:15743-1753401600-1754006399@www.samostan-petricevac.org
SUMMARY:FRANJEVAČKI HOD KROZ BANJA LUKU I OKOLICU
DESCRIPTION:Ove godine skupina framaša svoj “Franjevački hod” će imati po župama Banjalučkog kraja. Ruta koju će mladi framaši prijeći je predviđena od Petrićevca preko Trapista do Trna. Od Trna do Barlovaca preko Ivanjske i Motika nazad do Petrićevca. Franjevački hod će trajati od 25. do 31. srpnja 2025. godine. Neka Bog po zagovoru sv. Franje i sv. Klare blagoslovi svaki njihov korak.
URL:https://www.samostan-petricevac.org/najave/franjevacki-hod-kroz-banja-luku-i-okolicu/
LOCATION:Petrićevac\, Banja Luka
ATTACH;FMTTYPE=image/jpeg:https://www.samostan-petricevac.org/wp-content/uploads/2025/07/DJI_0034.jpg
END:VEVENT
BEGIN:VEVENT
DTSTART;VALUE=DATE:20251022
DTEND;VALUE=DATE:20251023
DTSTAMP:20260426T043814
CREATED:20251020T084036Z
LAST-MODIFIED:20251020T084133Z
UID:16209-1761091200-1761177599@www.samostan-petricevac.org
SUMMARY:PROSLAVA SV. IVANA PAVLA II. NA PETRIĆEVCU
DESCRIPTION:
URL:https://www.samostan-petricevac.org/najave/proslava-sv-ivana-pavla-ii-na-petricevcu/
LOCATION:Petrićevac\, Banja Luka
ATTACH;FMTTYPE=image/jpeg:https://www.samostan-petricevac.org/wp-content/uploads/2025/07/DJI_0034.jpg
END:VEVENT
BEGIN:VEVENT
DTSTART;VALUE=DATE:20251026
DTEND;VALUE=DATE:20251102
DTSTAMP:20260426T043814
CREATED:20251020T084959Z
LAST-MODIFIED:20251020T084959Z
UID:16212-1761436800-1762041599@www.samostan-petricevac.org
SUMMARY:SVI SVETI I DUŠNI DAN
DESCRIPTION:Dana 26. listopada u nedjelju bit će misa na Fratarskome groblju u 11:00 sati. Prije mise molit će se opijela. \nDana 01. studenog u subotu bit će misa na Motičkome groblju u 11:00 sati. Prije mise molit će se opijela.
URL:https://www.samostan-petricevac.org/najave/svi-sveti-i-dusni-dan/
ATTACH;FMTTYPE=image/jpeg:https://www.samostan-petricevac.org/wp-content/uploads/2019/10/Svi-Sveti.jpg
END:VEVENT
BEGIN:VEVENT
DTSTART;VALUE=DATE:20251206
DTEND;VALUE=DATE:20251207
DTSTAMP:20260426T043814
CREATED:20251128T160926Z
LAST-MODIFIED:20251128T161307Z
UID:16311-1764979200-1765065599@www.samostan-petricevac.org
SUMMARY:ADVENT NA PETRIĆEVCU
DESCRIPTION:U župi Petrićevac održat će se manifestacija „Advent na Petrićevcu“ \n06.12. s početkom u 17:30 sati. Početak programa bit će sveta misa\, a iza toga je nastavak prigodnog programa gdje će jedna od točaka programa biti i podjela paketića od sv. Nikole.
URL:https://www.samostan-petricevac.org/najave/advent-na-petricevcu/
LOCATION:Petrićevac\, Banja Luka
ATTACH;FMTTYPE=image/jpeg:https://www.samostan-petricevac.org/wp-content/uploads/2024/12/IMG_4773.jpg
END:VEVENT
BEGIN:VEVENT
DTSTART;VALUE=DATE:20251226
DTEND;VALUE=DATE:20260102
DTSTAMP:20260426T043814
CREATED:20251128T155823Z
LAST-MODIFIED:20251128T161458Z
UID:16304-1766707200-1767311999@www.samostan-petricevac.org
SUMMARY:RASPORED BLAGOSLOVA KUĆA ZA ŽUPU PETRIĆEVAC I MOTIKE 2025.
DESCRIPTION:Petak\, 26.12. od 13\,00 sati \nI.G. Kovačića\, Dragana Bubića\, Mlađe Ćusića\, Hercegnovska i Bilećka\, Tromeđa\, Vase Vidovovića\, Davida Štrbca. \n \nRosulje: Jaroslava Pleticija\, Lazarička\, Milana Stevilovića\, Živojina Preradovića. \nSubota\, 27.12. od 09\,00 sati \nRakovac i Petrićevca \nUtorak\, 30.12. od 09\,00 sati \nOstatak Rosulja i Budžak III. \nSrijeda\, 31.12. od 09\,00 sati \nŠargovac\, Novakovići\, Vujinovići. \nČetvrtak\, 01.01. od 10\,30 sati \nŽupa Motike.
URL:https://www.samostan-petricevac.org/najave/raspored-blagoslova-kuca-za-zupu-petricevac-i-motike-2025/
LOCATION:Petrićevac\, Banja Luka
ATTACH;FMTTYPE=image/jpeg:https://www.samostan-petricevac.org/wp-content/uploads/2025/11/14.-Raspored-Blagoslova-kuca.jpg
END:VEVENT
BEGIN:VEVENT
DTSTART;VALUE=DATE:20260425
DTEND;VALUE=DATE:20260601
DTSTAMP:20260426T043814
CREATED:20260417T135553Z
LAST-MODIFIED:20260417T135948Z
UID:16893-1777075200-1780271999@www.samostan-petricevac.org
SUMMARY:RASPORED BLAGOSLOVA POLJA ZA PETRIĆEVAC\, MOTIKE I SANSKI MOST 2026.
DESCRIPTION:Subota\, 25.04. – Kljevci \nNedjelja\, 26.04. – Novakovići \nNedjelja\, 26.04. – Kruhari u 13:00 sati. \nČetvrtak\, 01.05. – Šargovac \nSubota\, 02.05. – Motike-Ljevari \nSubota\, 09.05. – Kijevo \nNedjelja\, 10.05. – Čivčije \nNedjelja\, 10.05. – Poljak \nČetvrtak\, 14.05. – Greda/Šušnjar \nNedjelja\, 17.05. – Samostansko groblje \nNedjelja\, 17.05. – Trnova \nNedjelja\, 24.05. – Vujinovići \nNedjelja\, 31.05. – Motike-Martinovići \nNedjelja\, 31.05. – Klašnica \nPočetak blagoslova polja je u 11:00 sati\, a iza toga slijedi sveta misa.
URL:https://www.samostan-petricevac.org/najave/raspored-blagoslova-polja-za-petricevac-motike-i-sanski-most-2026/
ATTACH;FMTTYPE=image/jpeg:https://www.samostan-petricevac.org/wp-content/uploads/2025/05/f6bd6c22-afc9-4cb0-a702-c4b9406eace3.jpg
END:VEVENT
END:VCALENDAR