BEGIN:VCALENDAR
VERSION:2.0
PRODID:-//Franjevački samostan Petrićevac - ECPv6.15.16.1//NONSGML v1.0//EN
CALSCALE:GREGORIAN
METHOD:PUBLISH
X-WR-CALNAME:Franjevački samostan Petrićevac
X-ORIGINAL-URL:https://www.samostan-petricevac.org
X-WR-CALDESC:Događaji za Franjevački samostan Petrićevac
REFRESH-INTERVAL;VALUE=DURATION:PT1H
X-Robots-Tag:noindex
X-PUBLISHED-TTL:PT1H
BEGIN:VTIMEZONE
TZID:Europe/Zagreb
BEGIN:DAYLIGHT
TZOFFSETFROM:+0100
TZOFFSETTO:+0200
TZNAME:CEST
DTSTART:20230326T010000
END:DAYLIGHT
BEGIN:STANDARD
TZOFFSETFROM:+0200
TZOFFSETTO:+0100
TZNAME:CET
DTSTART:20231029T010000
END:STANDARD
BEGIN:DAYLIGHT
TZOFFSETFROM:+0100
TZOFFSETTO:+0200
TZNAME:CEST
DTSTART:20240331T010000
END:DAYLIGHT
BEGIN:STANDARD
TZOFFSETFROM:+0200
TZOFFSETTO:+0100
TZNAME:CET
DTSTART:20241027T010000
END:STANDARD
BEGIN:DAYLIGHT
TZOFFSETFROM:+0100
TZOFFSETTO:+0200
TZNAME:CEST
DTSTART:20250330T010000
END:DAYLIGHT
BEGIN:STANDARD
TZOFFSETFROM:+0200
TZOFFSETTO:+0100
TZNAME:CET
DTSTART:20251026T010000
END:STANDARD
END:VTIMEZONE
BEGIN:VEVENT
DTSTART;VALUE=DATE:20240609
DTEND;VALUE=DATE:20240610
DTSTAMP:20260425T171547
CREATED:20240530T083705Z
LAST-MODIFIED:20240530T083705Z
UID:13386-1717891200-1717977599@www.samostan-petricevac.org
SUMMARY:KRIZMA NA PETRIĆEVCU
DESCRIPTION:  \nDana 9. lipnja u župi sv. Ante Padovanskog na Petrićevcu biskup ordinarij mons. Željko Majić podijelit će sakrament zrelosti dvoma krizmanicima. Sveta krizma će biti u 11:00 sati.
URL:https://www.samostan-petricevac.org/najave/krizma-na-petricevcu/
LOCATION:Petrićevac\, Banja Luka
ATTACH;FMTTYPE=image/jpeg:https://www.samostan-petricevac.org/wp-content/uploads/2024/05/IMG_4989.jpg
END:VEVENT
END:VCALENDAR